BEGIN:VCALENDAR
VERSION:2.0
PRODID:-//ChamberMaster//Event Calendar 2.0//EN
METHOD:PUBLISH
X-PUBLISHED-TTL:P3D
REFRESH-INTERVAL:P3D
CALSCALE:GREGORIAN
BEGIN:VEVENT
DTSTART:20200828T210000Z
DTEND:20200828T220000Z
X-MICROSOFT-CDO-ALLDAYEVENT:FALSE
SUMMARY:Facebook "Live" Happy Hour
DESCRIPTION:Join us for on Facebook for our "Live" Happy Hour event featuring pianist John Ripley.  His program will include many well-known and loved favorites plus his beautiful composition that was written for his wife called "Dede's Theme."
X-ALT-DESC;FMTTYPE=text/html:Join us for on Facebook for our &quot\;Live&quot\; Happy Hour event featuring pianist John Ripley.&nbsp\; His program will include many well-known and loved favorites plus his beautiful composition that was written for his wife called &quot\;Dede&#39\;s Theme.&quot\;
LOCATION:Facebook Live at Steinway Piano Gallery Spanish Fort
UID:e.1304.14287
SEQUENCE:3
DTSTAMP:20260424T104326Z
URL:https://business.eschamber.com/events/details/facebook-live-happy-hour-14287
END:VEVENT

END:VCALENDAR
