BEGIN:VCALENDAR
VERSION:2.0
PRODID:-//ChamberMaster//Event Calendar 2.0//EN
METHOD:PUBLISH
X-PUBLISHED-TTL:P3D
REFRESH-INTERVAL:P3D
CALSCALE:GREGORIAN
BEGIN:VEVENT
DTSTART:20210424T130000Z
DTEND:20210424T190000Z
X-MICROSOFT-CDO-ALLDAYEVENT:FALSE
SUMMARY:Fairhope 1st Annual "Chalk the Trail" Event
DESCRIPTION:Thank you for your interest in the Baldwin County Trailblazers 1st annual Chalk The Trail Event! This event will bring awareness to our local trails\, get individuals & families out on the trail and raise funds for trail maintenance\, development & connectivity. For the 1st Annual Chalk the Trail\, participants will use chalk pastels to create their own unique design in their designated sidewalk 'square'. Each participant or team will be provided a goodie bag with a 12 ct. pastel chalk set\, snacks and other fun giveaways. The packets will be available for pick up on Friday\, April 23rd at the Easter Shore Art Center. The creativity will begin Saturday\, April 24th at 8:00 am and participants will have until 2:00 pm to complete their design. Awards will be given in each category: Individual adult (18+)\, individual teen (13-18)\, individual child (12 and under) and Family/Team (teams of 4). Grab your friends & family and register for this year's Chalk The Trail. All proceeds benefit the Baldwin County Trailblazers' mission to promote recreational activities in our community through the creation and maintenance of trails throughout Baldwin County.\n\nApril 16th: Trail Sponsor Deadline\n\nApril 21st: Deadline to Register for Chalk The Trail\n\nApril 23rd: Supply/Goodie Bag pick up at the Easternshore Art Center from 10:00 am to 4:00 pm\n\nApril 24th: Chalk the Trail 2021\n\n8am   2pm Allotted time to create your chalk art\n\n2pm Recognition of top design in each category
X-ALT-DESC;FMTTYPE=text/html:Thank you for your interest in the Baldwin County Trailblazers 1st annual Chalk The Trail Event! This event will bring awareness to our local trails\, get individuals &amp\; families out on the trail and raise funds for trail maintenance\, development &amp\; connectivity. For the 1st Annual Chalk the Trail\, participants will use chalk pastels to create their own unique design in their designated sidewalk &lsquo\;square&rsquo\;. Each participant or team will be provided a goodie bag with a 12 ct. pastel chalk set\, snacks and other fun giveaways. The packets will be available for pick up on Friday\, April 23rd at the Easter Shore Art Center. The creativity will begin Saturday\, April 24th at 8:00 am and participants will have until 2:00 pm to complete their design. Awards will be given in each category: Individual adult (18+)\, individual teen (13-18)\, individual child (12 and under) and Family/Team (teams of 4). Grab your friends &amp\; family and register for this year&rsquo\;s Chalk The Trail. All proceeds benefit the Baldwin County Trailblazers&rsquo\; mission to promote recreational activities in our community through the creation and maintenance of trails throughout Baldwin County.<br />\nApril 16th: Trail Sponsor Deadline<br />\nApril 21st: Deadline to Register for Chalk The Trail<br />\nApril 23rd: Supply/Goodie Bag pick up at the Easternshore Art Center from 10:00 am to 4:00 pm<br />\nApril 24th: Chalk the Trail 2021<br />\n8am &ndash\; 2pm Allotted time to create your chalk art<br />\n2pm Recognition of top design in each category<br />\n&nbsp\;
LOCATION:Sidewalk at Scenic 98 and Orange Street
UID:e.1304.20660
SEQUENCE:3
DTSTAMP:20260423T192656Z
URL:https://business.eschamber.com/events/details/fairhope-1st-annual-chalk-the-trail-event-20660
END:VEVENT

END:VCALENDAR
