BEGIN:VCALENDAR
VERSION:2.0
PRODID:-//ChamberMaster//Event Calendar 2.0//EN
METHOD:PUBLISH
X-PUBLISHED-TTL:P3D
REFRESH-INTERVAL:P3D
CALSCALE:GREGORIAN
BEGIN:VEVENT
DTSTART:20210430T150000Z
DTEND:20210430T220000Z
X-MICROSOFT-CDO-ALLDAYEVENT:FALSE
SUMMARY:Fairhope Annual Arts & Crafts Festival
DESCRIPTION:Fairhope Arts & Crafts Festival in Downtown Fairhope (rescheduled from March 19-21\, 2021)
X-ALT-DESC;FMTTYPE=text/html:Fairhope Arts &amp\; Crafts Festival in Downtown Fairhope (rescheduled from March 19-21\, 2021)
LOCATION:Downtown Fairhope
UID:e.1304.19394
SEQUENCE:3
DTSTAMP:20260423T210438Z
URL:https://business.eschamber.com/events/details/fairhope-annual-arts-crafts-festival-19394
END:VEVENT

END:VCALENDAR
