BEGIN:VCALENDAR
VERSION:2.0
PRODID:-//ChamberMaster//Event Calendar 2.0//EN
METHOD:PUBLISH
X-PUBLISHED-TTL:P3D
REFRESH-INTERVAL:P3D
CALSCALE:GREGORIAN
BEGIN:VEVENT
DTSTART:20201122T190000Z
DTEND:20201122T230000Z
X-MICROSOFT-CDO-ALLDAYEVENT:FALSE
SUMMARY:Fairhope Annual Christmas Open House
DESCRIPTION:Please come to Downtown Fairhope for our Annual Christmas Open House. Come shop and enjoy Downtown Fairhope!
X-ALT-DESC;FMTTYPE=text/html:Please come to Downtown Fairhope for our Annual Christmas Open House. Come shop and enjoy Downtown Fairhope!
LOCATION:Downtown Fairhope
UID:e.1304.14860
SEQUENCE:3
DTSTAMP:20260424T031852Z
URL:https://business.eschamber.com/events/details/fairhope-annual-christmas-open-house-14860
END:VEVENT

END:VCALENDAR
