BEGIN:VCALENDAR
VERSION:2.0
PRODID:-//ChamberMaster//Event Calendar 2.0//EN
METHOD:PUBLISH
X-PUBLISHED-TTL:P3D
REFRESH-INTERVAL:P3D
CALSCALE:GREGORIAN
BEGIN:VEVENT
DTSTART:20210425T180000Z
DTEND:20210425T200000Z
X-MICROSOFT-CDO-ALLDAYEVENT:FALSE
SUMMARY:Fairhope Christian Church Benefit Carwash
DESCRIPTION:Fairhope Christian Church will sponsor a benefit carwash on Sunday\, April 25\, to help send our youth to camp. It will be held in the church's back parking lot at 349 Fairwood Blvd.\, from 1 pm to 3 pm. You are invited to bring your pollen-covered vehicles to have them washed and to make a donation to help our youth participate in a very important camp experience. We hope you will join us and help our youth spread the Word!
X-ALT-DESC;FMTTYPE=text/html:Fairhope Christian Church will sponsor a benefit carwash on Sunday\, April 25\, to help send our youth to camp. It will be held in the church&rsquo\;s back parking lot at 349 Fairwood Blvd.\, from 1 pm to 3 pm. You are invited to bring your pollen-covered vehicles to have them washed and to make a donation to help our youth participate in a very important camp experience. We hope you will join us and help our youth spread the Word!
LOCATION:Fairhope Christian Church\, church's back parking lot at 349 Fairwood Blvd.
UID:e.1304.20613
SEQUENCE:3
DTSTAMP:20260423T193003Z
URL:https://business.eschamber.com/events/details/fairhope-christian-church-benefit-carwash-20613
END:VEVENT

END:VCALENDAR
