BEGIN:VCALENDAR
VERSION:2.0
PRODID:-//ChamberMaster//Event Calendar 2.0//EN
METHOD:PUBLISH
X-PUBLISHED-TTL:P3D
REFRESH-INTERVAL:P3D
CALSCALE:GREGORIAN
BEGIN:VEVENT
DTSTART:20210530T170000Z
DTEND:20210530T190000Z
X-MICROSOFT-CDO-ALLDAYEVENT:FALSE
SUMMARY:Fairhope Christian Church "End of School BASH"
DESCRIPTION:Fairhope Christian Church invites all ages to join them on our church grounds for a special "End-of-school BASH!" A hot-dog lunch will be provided at noon\, followed by great entertainment by the phenomenal Christian illusionist\, Bryan Drake\, of the "Bryan Drake Show." Bryan Drake is a local Christian illusionist who tours throughout the world entertaining audiences and sharing a Christ-centered message. Using illusions and mentalism\, Bryan Drake gets inside of your head. Bryan not only entertains any group\, but presents a clear message on Truth.\n\nBringing lawn chairs\, hats\, and sunscreen is strongly recommended.
X-ALT-DESC;FMTTYPE=text/html:Fairhope Christian Church invites all ages to join them on our church grounds for a special &ldquo\;End-of-school BASH!&rdquo\; A hot-dog lunch will be provided at noon\, followed by great entertainment by the phenomenal Christian illusionist\, Bryan Drake\, of the &ldquo\;Bryan Drake Show.&rdquo\; Bryan Drake is a local Christian illusionist who tours throughout the world entertaining audiences and sharing a Christ-centered message. Using illusions and mentalism\, Bryan Drake gets inside of your head. Bryan not only entertains any group\, but presents a clear message on Truth.<br />\nBringing lawn chairs\, hats\, and sunscreen is strongly recommended.
LOCATION:Fairhope Christian Church\, 349 Fairwood Blvd.\, Fairhope\, AL (weather permitting\, event will be on the north side of church grounds)
UID:e.1304.20720
SEQUENCE:3
DTSTAMP:20260423T175354Z
URL:https://business.eschamber.com/events/details/fairhope-christian-church-end-of-school-bash-20720
END:VEVENT

END:VCALENDAR
