BEGIN:VCALENDAR
VERSION:2.0
PRODID:-//ChamberMaster//Event Calendar 2.0//EN
METHOD:PUBLISH
X-PUBLISHED-TTL:P3D
REFRESH-INTERVAL:P3D
CALSCALE:GREGORIAN
BEGIN:VEVENT
DTSTART:20210729T233000Z
DTEND:20210730T010000Z
X-MICROSOFT-CDO-ALLDAYEVENT:FALSE
SUMMARY:Fairhope Christian Church VBS
DESCRIPTION:Fairhope Christian Church invites all Elementary School-aged explorers to join us as we dive in for a fun three-evening exploration under the sea! "Mission Deep Sea" Vacation Bible School will take place at Fairhope Christian Church\, 349 Fairwood Blvd.\, in Fairhope\, on three consecutive evenings\, Wednesday\, July 28 through Friday\, July 30\, from 6:30 to 8 pm. All undersea explorers\, ages Kindergarten through 5th grade\, are invited to participate in this fun\, free event. Don't miss the boat!!
X-ALT-DESC;FMTTYPE=text/html:Fairhope Christian Church invites all Elementary School-aged explorers to join us as we dive in for a fun three-evening exploration under the sea! &ldquo\;Mission Deep Sea&rdquo\; Vacation Bible School will take place at Fairhope Christian Church\, 349 Fairwood Blvd.\, in Fairhope\, on three consecutive evenings\, Wednesday\, July 28 through Friday\, July 30\, from 6:30 to 8 pm. All undersea explorers\, ages Kindergarten through 5th grade\, are invited to participate in this fun\, free event. Don&rsquo\;t miss the boat!!
LOCATION:Fairhope Christian Church\, 349 Fairwood Blvd.\, Fairhope\, AL
UID:e.1304.22028
SEQUENCE:3
DTSTAMP:20260420T131924Z
URL:https://business.eschamber.com/events/details/fairhope-christian-church-vbs-07-29-2021-22028
END:VEVENT

END:VCALENDAR
