BEGIN:VCALENDAR
VERSION:2.0
PRODID:-//ChamberMaster//Event Calendar 2.0//EN
METHOD:PUBLISH
X-PUBLISHED-TTL:P3D
REFRESH-INTERVAL:P3D
CALSCALE:GREGORIAN
BEGIN:VEVENT
DTSTART:20191124T190000Z
DTEND:20191124T230000Z
X-MICROSOFT-CDO-ALLDAYEVENT:FALSE
SUMMARY:Fairhope Christmas Open House
DESCRIPTION:Fairhope's Christmas Open House has been a tradition in Fairhope for more than 50 years. Get Christmas gifts for everyone on your list as you shop the local boutiques and antique stores that make Fairhope shopping so incredible.
X-ALT-DESC;FMTTYPE=text/html:Fairhope&rsquo\;s Christmas Open House has been a tradition in Fairhope for more than 50 years. Get Christmas gifts for everyone on your list as you shop the local boutiques and antique stores that make Fairhope shopping so incredible.
LOCATION:Downtown Fairhope
UID:e.1304.13113
SEQUENCE:3
DTSTAMP:20260419T141941Z
URL:https://business.eschamber.com/events/details/fairhope-christmas-open-house-13113
END:VEVENT

END:VCALENDAR
