BEGIN:VCALENDAR
VERSION:2.0
PRODID:-//ChamberMaster//Event Calendar 2.0//EN
METHOD:PUBLISH
X-PUBLISHED-TTL:P3D
REFRESH-INTERVAL:P3D
CALSCALE:GREGORIAN
BEGIN:VEVENT
DTSTART:20201205T010000Z
DTEND:20201205T020000Z
X-MICROSOFT-CDO-ALLDAYEVENT:FALSE
SUMMARY:Fairhope Christmas Parade
DESCRIPTION:Come on out and watch Fairhope's Annual Christmas Parade in Downtown Fairhope. Your safety is of utmost importance to us. Because of that\, the City of Fairhope is encouraging all participant and residents to adhere to social distancing and facial covering guidelines. We will leave it up to the parade participants as to how many people can ride on the float. At this time \, NO throws will be allowed. We want all residents and/or visitors to feel safe when attending the parade.
X-ALT-DESC;FMTTYPE=text/html:Come on out and watch Fairhope&#39\;s Annual Christmas Parade in Downtown Fairhope. Your safety is of utmost importance to us. Because of that\, the City of Fairhope is encouraging all participant and residents to adhere to social distancing and facial covering guidelines. We will leave it up to the parade participants as to how many people can ride on the float. At this time \, NO throws will be allowed. We want all residents and/or visitors to feel safe when attending the parade.
LOCATION:Downtown Fairhope
UID:e.1304.14884
SEQUENCE:3
DTSTAMP:20260424T014816Z
URL:https://business.eschamber.com/events/details/fairhope-christmas-parade-14884
END:VEVENT

END:VCALENDAR
