BEGIN:VCALENDAR
VERSION:2.0
PRODID:-//ChamberMaster//Event Calendar 2.0//EN
METHOD:PUBLISH
X-PUBLISHED-TTL:P3D
REFRESH-INTERVAL:P3D
CALSCALE:GREGORIAN
BEGIN:VEVENT
DTSTART:20210519T180000Z
DTEND:20210519T190000Z
X-MICROSOFT-CDO-ALLDAYEVENT:FALSE
SUMMARY:Fairhope Colony Cemetery Tour
DESCRIPTION:Sometimes historic preservation involves celebrating places\, people\, and events. This month we are celebrating historic places throughout Baldwin County by touring historic sites. Not only are these sites worthy of preserving\, but the stories behind them are\, as well. Everywhere we turn\, there is more to discover.\n\n1:00 p.m. - Meet at the Fairhope Colony Cemetery in Fairhope - Donnie Barrett\, Local Historian is the Tour Guide. The Cemetery is owned and operated by the Fairhope Single Tax Corporation. Fairhope was founded in 1894 by a group of northern settlers with a "fair hope" of success towards creating a community of free speech\, equality\, and cooperative individualism. Many of the founders are at rest I the Fairhope Colony Cemetery.
X-ALT-DESC;FMTTYPE=text/html:Sometimes historic preservation involves celebrating places\, people\, and events. This month we are celebrating historic places throughout Baldwin County by touring historic sites. Not only are these sites worthy of preserving\, but the stories behind them are\, as well. Everywhere we turn\, there is more to discover.<br />\n1:00 p.m. - Meet at the Fairhope Colony Cemetery in Fairhope - Donnie Barrett\, Local Historian is the Tour Guide. The Cemetery is owned and operated by the Fairhope Single Tax Corporation. Fairhope was founded in 1894 by a group of northern settlers with a &quot\;fair hope&quot\; of success towards creating a community of free speech\, equality\, and cooperative individualism. Many of the founders are at rest I the Fairhope Colony Cemetery.
LOCATION:Fairhope Colony Cemetery\, corner of Section Street and Oak Street\, Fairhope\, AL
UID:e.1304.20747
SEQUENCE:3
DTSTAMP:20260423T192144Z
URL:https://business.eschamber.com/events/details/fairhope-colony-cemetery-tour-20747
END:VEVENT

END:VCALENDAR
