BEGIN:VCALENDAR
VERSION:2.0
PRODID:-//ChamberMaster//Event Calendar 2.0//EN
METHOD:PUBLISH
X-PUBLISHED-TTL:P3D
REFRESH-INTERVAL:P3D
CALSCALE:GREGORIAN
BEGIN:VEVENT
DTSTART:20201022T200000Z
DTEND:20201022T230000Z
X-MICROSOFT-CDO-ALLDAYEVENT:FALSE
SUMMARY:Fairhope Fall Outdoor Farmer's Market
DESCRIPTION:Enjoy the fresh\, outstanding variety from the many vendors dedicated efforts to offer quality and value with fresh produce\, nursery items\, specialty foods\, breads and pastries. Please grab your mask and swing by!
X-ALT-DESC;FMTTYPE=text/html:Enjoy the fresh\, outstanding variety from the many vendors dedicated efforts to offer quality and value with fresh produce\, nursery items\, specialty foods\, breads and pastries. Please grab your mask and swing by!
LOCATION:Behind the Fairhope Public Library on Bancroft Street\, Fairhope\, AL
UID:e.1304.14310
SEQUENCE:3
DTSTAMP:20260424T044329Z
URL:https://business.eschamber.com/events/details/fairhope-fall-outdoor-farmer-s-market-10-22-2020-14310
END:VEVENT

END:VCALENDAR
