BEGIN:VCALENDAR
VERSION:2.0
PRODID:-//ChamberMaster//Event Calendar 2.0//EN
METHOD:PUBLISH
X-PUBLISHED-TTL:P3D
REFRESH-INTERVAL:P3D
CALSCALE:GREGORIAN
BEGIN:VEVENT
DTSTART:20180614T200000Z
DTEND:20180614T230000Z
X-MICROSOFT-CDO-ALLDAYEVENT:FALSE
SUMMARY:Fairhope Farmer's Market
DESCRIPTION:Fairhope Farmer's Market.  The Market will offer fresh vegetables\, fruit\, herbs\, local honey\, plants\, fresh cut flowers and more.  The Fairhope Public Library will be holding story times and children's activities at 4 p.m. each Thursday at the Market.
X-ALT-DESC;FMTTYPE=text/html:Fairhope Farmer's Market.&nbsp\; The Market will offer fresh vegetables\, fruit\, herbs\, local honey\, plants\, fresh cut flowers and more.&nbsp\; The Fairhope Public Library will be holding story times and children's activities at 4 p.m. each Thursday at the Market.
LOCATION:Behind the Fairhope Library in the new parking lot.
UID:e.1304.10210
SEQUENCE:3
DTSTAMP:20260420T230406Z
URL:https://business.eschamber.com/events/details/fairhope-farmer-s-market-06-14-2018-10210
END:VEVENT

END:VCALENDAR
