BEGIN:VCALENDAR
VERSION:2.0
PRODID:-//ChamberMaster//Event Calendar 2.0//EN
METHOD:PUBLISH
X-PUBLISHED-TTL:P3D
REFRESH-INTERVAL:P3D
CALSCALE:GREGORIAN
BEGIN:VEVENT
DTSTART:20210715T200000Z
DTEND:20210715T230000Z
X-MICROSOFT-CDO-ALLDAYEVENT:FALSE
SUMMARY:Fairhope Farmers Market
DESCRIPTION:Come and check out the Fairhope Farmers Market behind the Fairhope Public Library every Thursday between 3:00 PM and 6:00 PM.
X-ALT-DESC;FMTTYPE=text/html:Come and check out the Fairhope Farmers Market behind the Fairhope Public Library every Thursday between 3:00 PM and 6:00 PM.
LOCATION:Behind the Fairhope Public Library
UID:e.1304.20520
SEQUENCE:3
DTSTAMP:20260420T115208Z
URL:https://business.eschamber.com/events/details/fairhope-farmers-market-07-15-2021-20520
END:VEVENT

END:VCALENDAR
