BEGIN:VCALENDAR
VERSION:2.0
PRODID:-//ChamberMaster//Event Calendar 2.0//EN
METHOD:PUBLISH
X-PUBLISHED-TTL:P3D
REFRESH-INTERVAL:P3D
CALSCALE:GREGORIAN
BEGIN:VEVENT
DTSTART:20210506T210000Z
DTEND:20210507T010000Z
X-MICROSOFT-CDO-ALLDAYEVENT:FALSE
SUMMARY:Fairhope Girl's Night Out
DESCRIPTION:Thursday\, May 6\n\n4-8 PM\n\nDowntown Fairhope\n\n\n\nGet the gals together for a girl's night in downtown Fairhope complete with an exclusive coupon book\, special prizes\, commemorative t-shirt and swag bag. Our fun and festive fiesta is a great excuse to indulge in a little retail therapy with the senioritas.\n\n\n\nEvery GNO participant will be registered for the door prize giveaways.\n\n\n\nTickets available April 1st at www.fairhopemerchants.com
X-ALT-DESC;FMTTYPE=text/html:Thursday\, May 6<br />\n4-8 PM<br />\nDowntown Fairhope<br />\n<br />\nGet the gals together for a girl&#39\;s night in downtown Fairhope complete with an exclusive coupon book\, special prizes\, commemorative t-shirt and swag bag. Our fun and festive fiesta is a great excuse to indulge in a little retail therapy with the senioritas.<br />\n<br />\nEvery GNO participant will be registered for the door prize giveaways.<br />\n<br />\nTickets available April 1st at www.fairhopemerchants.com&nbsp\;
LOCATION:Downtown Fairhope
UID:e.1304.20580
SEQUENCE:3
DTSTAMP:20260423T175555Z
URL:https://business.eschamber.com/events/details/fairhope-girl-s-night-out-05-06-2021-20580
END:VEVENT

END:VCALENDAR
