BEGIN:VCALENDAR
VERSION:2.0
PRODID:-//ChamberMaster//Event Calendar 2.0//EN
METHOD:PUBLISH
X-PUBLISHED-TTL:P3D
REFRESH-INTERVAL:P3D
CALSCALE:GREGORIAN
BEGIN:VEVENT
DTSTART:20230818T210000Z
DTEND:20230818T233000Z
X-MICROSOFT-CDO-ALLDAYEVENT:FALSE
SUMMARY:Fairhope Happy Hour Cocktail Crawl
DESCRIPTION:Raise a glass to Fairhope's vibrant cocktail scene with our Happy Hour Cocktail Crawl. This unforgettable two-hour tour explores the heart of Fairhope\, taking you to four popular venues celebrated for their innovative drinks and delicious cuisine.\n\nAt each stop\, you'll have the opportunity to sip on a carefully curated selection of cocktails. Some stops will complement the drinks with a selection of light\, mouthwatering bites that showcase their culinary offerings.\n\nAlong the way\, you'll be introduced to Fairhope's charming culture and rich history. Did you know Fairhope Avenue was on the original Monopoly board game? Hear this story and more as we venture down iconic Fairhope Avenue. You'll learn about the captivating stories that define our town and the local businesses that contribute to its character.\n\nThe Fairhope Happy Hour Cocktail Crawl is the perfect experience for food and drink lovers! Book your crawl today and prepare to savor the true spirit of Fairhope!
X-ALT-DESC;FMTTYPE=text/html:<p>Raise a glass to Fairhope&rsquo\;s vibrant cocktail scene with our Happy Hour Cocktail Crawl. This unforgettable two-hour tour explores the heart of Fairhope\, taking you to four popular venues celebrated for their innovative drinks and delicious cuisine.</p>\n\n<p>At each stop\, you&rsquo\;ll have the opportunity to sip on a carefully curated selection of cocktails. Some stops will complement the drinks with a selection of light\, mouthwatering bites that showcase their culinary offerings.</p>\n\n<p>Along the way\, you&rsquo\;ll be introduced to Fairhope&rsquo\;s charming culture and rich history. Did you know Fairhope Avenue was on the original Monopoly board game? Hear this story and more as we venture down iconic Fairhope Avenue. You&rsquo\;ll learn about the captivating stories that define our town and the local businesses that contribute to its character.</p>\n\n<p>The Fairhope Happy Hour Cocktail Crawl is the perfect experience for food and drink lovers! Book your crawl today and prepare to savor the true spirit of Fairhope!</p>\n
LOCATION:Downtown Fairhope
UID:e.1304.27746
SEQUENCE:3
DTSTAMP:20260420T035340Z
URL:https://business.eschamber.com/events/details/fairhope-happy-hour-cocktail-crawl-08-18-2023-27746
END:VEVENT

END:VCALENDAR
