BEGIN:VCALENDAR
VERSION:2.0
PRODID:-//ChamberMaster//Event Calendar 2.0//EN
METHOD:PUBLISH
X-PUBLISHED-TTL:P3D
REFRESH-INTERVAL:P3D
CALSCALE:GREGORIAN
BEGIN:VEVENT
DTSTART:20191019T160000Z
DTEND:20191019T193000Z
X-MICROSOFT-CDO-ALLDAYEVENT:FALSE
SUMMARY:Fairhope Kiwanis 9th Annual Best of the Bay Gumbo Championship
DESCRIPTION:Fairhope Kiwanis will host their 9th Annual Best of the Bay Gumbo Championship. The event allows teams to compete against each other for the best gumbo on the Eastern Shore. Prizes will be awarded for 1st\, 2nd\, and 3rd place for the Best Gumbo by a Professional or Restaurant\, Best Gumbo\, Non-restaurant\, Best Decorated Booth\, and People's Choice. This year's winner will receive a Golden Ticket to the 2020 World Food Championship in Dallas\, TX. The event will include arts and craft show\, inflatables\, and face painting for the kids\, food and entertainment by the Marlow Boys.
X-ALT-DESC;FMTTYPE=text/html:Fairhope Kiwanis will host their 9th Annual Best of the Bay Gumbo Championship. The event allows teams to compete against each other for the best gumbo on the Eastern Shore. Prizes will be awarded for 1st\, 2nd\, and 3rd place for the Best Gumbo by a Professional or Restaurant\, Best Gumbo\, Non-restaurant\, Best Decorated Booth\, and People&#39\;s Choice. This year&#39\;s winner will receive a Golden Ticket to the 2020 World Food Championship in Dallas\, TX. The event will include arts and craft show\, inflatables\, and face painting for the kids\, food and entertainment by the Marlow Boys.
LOCATION:Coastal Alabama Community College Halstead Amphitheatre\, 450 Fairhope Avenue\, Fairhope\, AL
UID:e.1304.12919
SEQUENCE:3
DTSTAMP:20260419T173223Z
URL:https://business.eschamber.com/events/details/fairhope-kiwanis-9th-annual-best-of-the-bay-gumbo-championship-12919
END:VEVENT

END:VCALENDAR
