BEGIN:VCALENDAR
VERSION:2.0
PRODID:-//ChamberMaster//Event Calendar 2.0//EN
METHOD:PUBLISH
X-PUBLISHED-TTL:P3D
REFRESH-INTERVAL:P3D
CALSCALE:GREGORIAN
BEGIN:VEVENT
DTSTART:20181208T010000Z
DTEND:20181208T030000Z
X-MICROSOFT-CDO-ALLDAYEVENT:FALSE
SUMMARY:Fairhope Magical Christmas Parade
DESCRIPTION:Fairhope's Magical Christmas Parade begins at 7:00 pm at the intersection of Morphy and Section Street and continues down Section to Oak Street.\n\n\n\nThe excitement will build as more than 60 parade units dazzle the crowd in anticipation of Santa Claus' arrival to Fairhope for the holiday season.
X-ALT-DESC;FMTTYPE=text/html:Fairhope&rsquo\;s Magical Christmas Parade begins at 7:00 pm at the intersection of Morphy and Section Street and continues down Section to Oak Street.<br />\n<br />\nThe excitement will build as more than 60 parade units dazzle the crowd in anticipation of Santa Claus&rsquo\; arrival to Fairhope for the holiday season.
LOCATION:Downtown Fairhope
UID:e.1304.11110
SEQUENCE:3
DTSTAMP:20260419T141940Z
URL:https://business.eschamber.com/events/details/fairhope-magical-christmas-parade-11110
END:VEVENT

END:VCALENDAR
