BEGIN:VCALENDAR
VERSION:2.0
PRODID:-//ChamberMaster//Event Calendar 2.0//EN
METHOD:PUBLISH
X-PUBLISHED-TTL:P3D
REFRESH-INTERVAL:P3D
CALSCALE:GREGORIAN
BEGIN:VEVENT
DTSTART:20210104T180000Z
DTEND:20210105T000000Z
X-MICROSOFT-CDO-ALLDAYEVENT:FALSE
SUMMARY:Fairhope Police Heroes' Blood Drive
DESCRIPTION:Every unit we donate at our blood drive can help save up to three lives. The life saved may be an accident or trauma victim\, cancer patient\, a mother giving birth\, a premature baby\, a transplant recipient or surgical candidate. Our impact goes beyond that patient   it is multiplied by the impact it has on that person's loved ones who are thankful for the unit we donated. Our last drive resulted in 53 units = 159 potential lives impacted! Reserve your spot online today at: https://www.redcrossblood.org/give.html/donation-time
X-ALT-DESC;FMTTYPE=text/html:Every unit we donate at our blood drive can help save up to three lives. The life saved may be an accident or trauma victim\, cancer patient\, a mother giving birth\, a premature baby\, a transplant recipient or surgical candidate. Our impact goes beyond that patient &ndash\; it is multiplied by the impact it has on that person&rsquo\;s loved ones who are thankful for the unit we donated. Our last drive resulted in 53 units = 159 potential lives impacted! Reserve your spot online today at: https://www.redcrossblood.org/give.html/donation-time
LOCATION:James P. Nix Senior Center\, 1 Bayou Drive\, Fairhope\, AL
UID:e.1304.14936
SEQUENCE:3
DTSTAMP:20260424T001645Z
URL:https://business.eschamber.com/events/details/fairhope-police-heroes-blood-drive-14936
END:VEVENT

END:VCALENDAR
