BEGIN:VCALENDAR
VERSION:2.0
PRODID:-//ChamberMaster//Event Calendar 2.0//EN
METHOD:PUBLISH
X-PUBLISHED-TTL:P3D
REFRESH-INTERVAL:P3D
CALSCALE:GREGORIAN
BEGIN:VEVENT
DTSTART:20240705T003000Z
DTEND:20240705T023000Z
X-MICROSOFT-CDO-ALLDAYEVENT:FALSE
SUMMARY:Fairhope's 4th of July Celebration-2024
DESCRIPTION:The City of Fairhope will host its annual Fourth of July Concert & Fireworks display again this year on Thursday\, July 4th in Henry George Park and the Fairhope Municipal Pier. The Baldwin Pops Band Independence Day Concert will begin at 7:30 p.m. in Henry George Park. A variety of patriotic music will be played before and during the fireworks display. The Fairhope fireworks display will begin at approximately 9 p.m. The north end of Fairhope Municipal Park will be open throughout the day and will remain open until no parking is available. The south end of the beach front park and Knoll Park will be available to spectators. Handicap parking will be available near the fountain but will be limited. Those who wish to park in the handicap area should plan to arrive early and stay until the fireworks are over. As a reminder\, this is an alcohol-free event\, and no personal fireworks are permitted.
X-ALT-DESC;FMTTYPE=text/html:The City of Fairhope will host its annual Fourth of July Concert &amp\; Fireworks display again this year on Thursday\, July 4th in Henry George Park and the Fairhope Municipal Pier. The Baldwin Pops Band Independence Day Concert will begin at 7:30 p.m. in Henry George Park. A variety of patriotic music will be played before and during the fireworks display. The Fairhope fireworks display will begin at approximately 9 p.m. The north end of Fairhope Municipal Park will be open throughout the day and will remain open until no parking is available. The south end of the beach front park and Knoll Park will be available to spectators. Handicap parking will be available near the fountain but will be limited. Those who wish to park in the handicap area should plan to arrive early and stay until the fireworks are over. As a reminder\, this is an alcohol-free event\, and no personal fireworks are permitted.
LOCATION:Henry George Park & the area around Fairhope Municipal Pier
UID:e.1304.31393
SEQUENCE:3
DTSTAMP:20260419T204450Z
URL:https://business.eschamber.com/events/details/fairhope-s-4th-of-july-celebration-2024-31393
END:VEVENT

END:VCALENDAR
