BEGIN:VCALENDAR
VERSION:2.0
PRODID:-//ChamberMaster//Event Calendar 2.0//EN
METHOD:PUBLISH
X-PUBLISHED-TTL:P3D
REFRESH-INTERVAL:P3D
CALSCALE:GREGORIAN
BEGIN:VEVENT
DTSTART:20210705T000000Z
DTEND:20210705T024500Z
X-MICROSOFT-CDO-ALLDAYEVENT:FALSE
SUMMARY:Fairhope's 4th of July celebration
DESCRIPTION:Concert 7 p.m.\, Fireworks 9 p.m.
X-ALT-DESC;FMTTYPE=text/html:Concert 7 p.m.\, Fireworks 9 p.m.
LOCATION:Fairhope Pier\, Fairhope\, AL
UID:e.1304.20558
SEQUENCE:3
DTSTAMP:20260420T114302Z
URL:https://business.eschamber.com/events/details/fairhope-s-4th-of-july-celebration-20558
END:VEVENT

END:VCALENDAR
