BEGIN:VCALENDAR
VERSION:2.0
PRODID:-//ChamberMaster//Event Calendar 2.0//EN
METHOD:PUBLISH
X-PUBLISHED-TTL:P3D
REFRESH-INTERVAL:P3D
CALSCALE:GREGORIAN
BEGIN:VEVENT
DTSTART:20210506T160000Z
DTEND:20210506T162000Z
X-MICROSOFT-CDO-ALLDAYEVENT:FALSE
SUMMARY:Fairhope's National Day of Prayer
DESCRIPTION:An event for neighbors to join in a communal blessing! Organized by Christian Leaders of Fairhope.
X-ALT-DESC;FMTTYPE=text/html:An event for neighbors to join in a communal blessing! Organized by Christian Leaders of Fairhope.
LOCATION:Coastal Alabama College's Halstead Amphitheater
UID:e.1304.20696
SEQUENCE:3
DTSTAMP:20260423T192431Z
URL:https://business.eschamber.com/events/details/fairhope-s-national-day-of-prayer-20696
END:VEVENT

END:VCALENDAR
