BEGIN:VCALENDAR
VERSION:2.0
PRODID:-//ChamberMaster//Event Calendar 2.0//EN
METHOD:PUBLISH
X-PUBLISHED-TTL:P3D
REFRESH-INTERVAL:P3D
CALSCALE:GREGORIAN
BEGIN:VEVENT
DTSTART:20180101T023000Z
DTEND:20180101T063000Z
X-MICROSOFT-CDO-ALLDAYEVENT:FALSE
SUMMARY:Fairhope's New Year's Eve Family Celebration
DESCRIPTION:Fairhope's New Year's Eve Family Celebration
X-ALT-DESC;FMTTYPE=text/html:Fairhope&#39\;s New Year&#39\;s Eve Family Celebration
LOCATION:Downtown Fairhope. In order to properly prepare\, the City of Fairhope will close Fairhope Avenue between Section Street and Church Street at 1:30 p.m. Church Street between De La Mare Avenue and Fairhope Avenue will also close at 1:30 p.m. Church Street from the corner of Fairhope Avenue to Magnolia Avenue will close at 12:30 p.m. Entry to the public parking garage on Church Street will be left open.
UID:e.1304.3277
SEQUENCE:3
DTSTAMP:20260423T162719Z
URL:https://business.eschamber.com/events/details/fairhope-s-new-year-s-eve-family-celebration-3277
END:VEVENT

END:VCALENDAR
