BEGIN:VCALENDAR
VERSION:2.0
PRODID:-//ChamberMaster//Event Calendar 2.0//EN
METHOD:PUBLISH
X-PUBLISHED-TTL:P3D
REFRESH-INTERVAL:P3D
CALSCALE:GREGORIAN
BEGIN:VEVENT
DTSTART:20240101T023000Z
DTEND:20240101T063000Z
X-MICROSOFT-CDO-ALLDAYEVENT:FALSE
SUMMARY:Fairhope's New Years Eve Celebration
DESCRIPTION:Come join in the celebration in downtown Fairhope as we usher in the New Year!
X-ALT-DESC;FMTTYPE=text/html:Come join in the celebration in downtown Fairhope as we usher in the New Year!
LOCATION:Downtown Fairhope
UID:e.1304.28554
SEQUENCE:3
DTSTAMP:20260423T093742Z
URL:https://business.eschamber.com/events/details/fairhope-s-new-years-eve-celebration-28554
END:VEVENT

END:VCALENDAR
