BEGIN:VCALENDAR
VERSION:2.0
PRODID:-//ChamberMaster//Event Calendar 2.0//EN
METHOD:PUBLISH
X-PUBLISHED-TTL:P3D
REFRESH-INTERVAL:P3D
CALSCALE:GREGORIAN
BEGIN:VEVENT
DTSTART;VALUE=DATE:20221126
DTEND;VALUE=DATE:20221127
TRANSP:TRANSPARENT
X-MICROSOFT-CDO-ALLDAYEVENT:TRUE
SUMMARY:Fairhope's Small Business Saturday
DESCRIPTION:Come get your Christmas shopping done by shopping with us in downtown Fairhope and help small business thrive!
X-ALT-DESC;FMTTYPE=text/html:Come get your Christmas shopping done by shopping with us in downtown Fairhope and help small business thrive!
LOCATION:Downtown Fairhope
UID:e.1304.26377
SEQUENCE:3
DTSTAMP:20260423T162523Z
URL:https://business.eschamber.com/events/details/fairhope-s-small-business-saturday-26377
END:VEVENT

END:VCALENDAR
