BEGIN:VCALENDAR
VERSION:2.0
PRODID:-//ChamberMaster//Event Calendar 2.0//EN
METHOD:PUBLISH
X-PUBLISHED-TTL:P3D
REFRESH-INTERVAL:P3D
CALSCALE:GREGORIAN
BEGIN:VEVENT
DTSTART:20191121T233000Z
DTEND:20191122T010000Z
X-MICROSOFT-CDO-ALLDAYEVENT:FALSE
SUMMARY:Fairhope Tree Lighting Ceremony
DESCRIPTION:Festivities begin at 5:30 and the lights come on at 6 p.m. sharp! Entertainment includes the Fairhope High School band\, the Fairhope Middle School band\, and the Eastern Shore Choral Society. Mrs. Claus will be there to take children's Christmas lists and hand-deliver them to Santa at the North Pole.
X-ALT-DESC;FMTTYPE=text/html:Festivities begin at 5:30 and the lights come on at 6 p.m. sharp! Entertainment includes the Fairhope High School band\, the Fairhope Middle School band\, and the Eastern Shore Choral Society. Mrs. Claus will be there to take children&rsquo\;s Christmas lists and hand-deliver them to Santa at the North Pole.
LOCATION:Corner of Section Street and Fairhope Avenue Fairhope\, AL
UID:e.1304.13111
SEQUENCE:3
DTSTAMP:20260419T141755Z
URL:https://business.eschamber.com/events/details/fairhope-tree-lighting-ceremony-13111
END:VEVENT

END:VCALENDAR
