BEGIN:VCALENDAR
VERSION:2.0
PRODID:-//ChamberMaster//Event Calendar 2.0//EN
METHOD:PUBLISH
X-PUBLISHED-TTL:P3D
REFRESH-INTERVAL:P3D
CALSCALE:GREGORIAN
BEGIN:VEVENT
DTSTART:20191109T160000Z
DTEND:20191109T170000Z
X-MICROSOFT-CDO-ALLDAYEVENT:FALSE
SUMMARY:Fairhope Veteran's Day Parade
DESCRIPTION:The parade will start at 10 a.m. and will begin and end at the Fairhope Civic Center. The Parade provides the public with the opportunity to salute our veterans and military and is the centerpiece of an annual citywide effort to honor our Veterans community.
X-ALT-DESC;FMTTYPE=text/html:The parade will start at 10 a.m. and will begin and end at the Fairhope Civic Center. The Parade provides the public with the opportunity to salute our veterans and military and is the centerpiece of an annual citywide effort to honor our Veterans community.
LOCATION:Downtown Fairhope
UID:e.1304.13114
SEQUENCE:3
DTSTAMP:20260419T142811Z
URL:https://business.eschamber.com/events/details/fairhope-veteran-s-day-parade-13114
END:VEVENT

END:VCALENDAR
