BEGIN:VCALENDAR
VERSION:2.0
PRODID:-//ChamberMaster//Event Calendar 2.0//EN
METHOD:PUBLISH
X-PUBLISHED-TTL:P3D
REFRESH-INTERVAL:P3D
CALSCALE:GREGORIAN
BEGIN:VEVENT
DTSTART:20201025T220000Z
DTEND:20201026T040000Z
X-MICROSOFT-CDO-ALLDAYEVENT:FALSE
SUMMARY:Fall Festival
DESCRIPTION:Come on out to OWA's Fall Festival starting September 19 and running through October 31 every weekend! With so many events and activities in store\, it's a festival you won't want to miss. This family-friendly event has something for everyone\, so come and enjoy the fun!
X-ALT-DESC;FMTTYPE=text/html:Come on out to OWA&#39\;s Fall Festival starting September 19 and running through October 31 every weekend! With so many events and activities in store\, it&rsquo\;s a festival you won&rsquo\;t want to miss. This family-friendly event has something for everyone\, so come and enjoy the fun!
LOCATION:1501 South OWA Blvd Foley\, AL 36535
UID:e.1304.12660
SEQUENCE:3
DTSTAMP:20260424T054441Z
URL:https://business.eschamber.com/events/details/fall-festival-10-25-2020-12660
END:VEVENT

END:VCALENDAR
