BEGIN:VCALENDAR
VERSION:2.0
PRODID:-//ChamberMaster//Event Calendar 2.0//EN
METHOD:PUBLISH
X-PUBLISHED-TTL:P3D
REFRESH-INTERVAL:P3D
CALSCALE:GREGORIAN
BEGIN:VEVENT
DTSTART:20210707T153000Z
DTEND:20210708T043000Z
X-MICROSOFT-CDO-ALLDAYEVENT:FALSE
SUMMARY:Wonderful Wednesdays at Bellingrath: Growing Cascading Chrysanthemums
DESCRIPTION:Bellingrath's Horticulture Staff works nearly year-round on the Fall Outdoor Cascading Chrysanthemums display\, the nation's largest outdoor mums show. Join Chuck Owens\, Director of Horticulture\, for a behind-the-scenes tour of the Bellingrath mum production. Get a sneak peek of the special updates in process for the 2021 show!
X-ALT-DESC;FMTTYPE=text/html:Bellingrath&rsquo\;s Horticulture Staff works nearly year-round on the Fall Outdoor Cascading Chrysanthemums display\, the nation&#39\;s largest outdoor mums show.&nbsp\;<span style="background-color:rgb(243\, 243\, 243)\; color:rgb(97\, 97\, 97)\; font-family:open sans\,sans-serif\; font-size:14px">Join Chuck Owens\, Director of Horticulture\, for a behind-the-scenes tour of the Bellingrath mum production. Get a sneak peek of the special updates in process for the 2021 show!&nbsp\;</span>
LOCATION:Bellingrath Gardens and Home\, 12401 Bellingrath Gardens Road\, Theodore\, AL 36582
UID:e.1304.7206
SEQUENCE:3
DTSTAMP:20260420T115538Z
URL:https://business.eschamber.com/events/details/fall-outdoor-cascading-chrysanthemums-at-bellingrath-gardens-and-home-7206
END:VEVENT

END:VCALENDAR
