BEGIN:VCALENDAR
VERSION:2.0
PRODID:-//ChamberMaster//Event Calendar 2.0//EN
METHOD:PUBLISH
X-PUBLISHED-TTL:P3D
REFRESH-INTERVAL:P3D
CALSCALE:GREGORIAN
BEGIN:VEVENT
DTSTART:20201211T010000Z
DTEND:20201211T020000Z
X-MICROSOFT-CDO-ALLDAYEVENT:FALSE
SUMMARY:Family Promise Virtual Chocolate Affair
DESCRIPTION:Join us for our first Virtual Chocolate Affair as we support the mission of Family Promise in Baldwin County. We will have special guests sharing what Family Promise means to them. Also join us for the excitement to see who will win the $5000 grand prize.
X-ALT-DESC;FMTTYPE=text/html:Join us for our first Virtual Chocolate Affair as we support the mission of Family Promise in Baldwin County. We will have special guests sharing what Family Promise means to them. Also join us for the excitement to see who will win the $5000 grand prize.
LOCATION:http://1cau.se/ap5
UID:e.1304.14883
SEQUENCE:3
DTSTAMP:20260424T015030Z
URL:https://business.eschamber.com/events/details/family-promise-virtual-chocolate-affair-14883
END:VEVENT

END:VCALENDAR
