BEGIN:VCALENDAR
VERSION:2.0
PRODID:-//ChamberMaster//Event Calendar 2.0//EN
METHOD:PUBLISH
X-PUBLISHED-TTL:P3D
REFRESH-INTERVAL:P3D
CALSCALE:GREGORIAN
BEGIN:VEVENT
DTSTART:20220419T230000Z
DTEND:20220420T000000Z
X-MICROSOFT-CDO-ALLDAYEVENT:FALSE
SUMMARY:Financial Recovery
DESCRIPTION:Financial Recovery: Designed to bring hope to families struggling to recover from a financial setback\, this course will equip participants with proactive\, practical strategies for getting back on their feet. The objective is to help participants visualize a brighter future and realize that their current financial difficulties don't have to be permanent.
X-ALT-DESC;FMTTYPE=text/html:<u><strong>Financial Recovery</strong></u>: Designed to bring hope to families struggling to recover from a financial setback\, this course will equip participants with proactive\, practical strategies for getting back on their feet. The objective is to help participants visualize a brighter future and realize that their current financial difficulties don&rsquo\;t have to be permanent.
LOCATION:Virtual
UID:e.1304.23286
SEQUENCE:3
DTSTAMP:20260423T042539Z
URL:https://business.eschamber.com/events/details/financial-recovery-04-19-2022-23286
END:VEVENT

END:VCALENDAR
