BEGIN:VCALENDAR
VERSION:2.0
PRODID:-//ChamberMaster//Event Calendar 2.0//EN
METHOD:PUBLISH
X-PUBLISHED-TTL:P3D
REFRESH-INTERVAL:P3D
CALSCALE:GREGORIAN
BEGIN:VEVENT
DTSTART:20210704T170000Z
DTEND:20210704T210000Z
X-MICROSOFT-CDO-ALLDAYEVENT:FALSE
SUMMARY:First Sunday Outdoor Market at 5 Rivers
DESCRIPTION:Shop our local artisans\, crafters\, makers\, and growers at the Cypress Gift Shop. Take a turn with LeaAyn of Moonstruck Pottery's demonstration. Meet a delta critter at the Animal Ambassador program\, 2 pm.
X-ALT-DESC;FMTTYPE=text/html:Shop our local artisans\, crafters\, makers\, and growers at the Cypress Gift Shop. Take a turn with LeaAyn of Moonstruck Pottery&#39\;s demonstration. Meet a delta critter at the Animal Ambassador program\, 2 pm.
LOCATION:5 Rivers Delta Resource Center
UID:e.1304.22042
SEQUENCE:3
DTSTAMP:20260420T132630Z
URL:https://business.eschamber.com/events/details/first-sunday-outdoor-market-at-5-rivers-07-04-2021-22042
END:VEVENT

END:VCALENDAR
