BEGIN:VCALENDAR
VERSION:2.0
PRODID:-//ChamberMaster//Event Calendar 2.0//EN
METHOD:PUBLISH
X-PUBLISHED-TTL:P3D
REFRESH-INTERVAL:P3D
CALSCALE:GREGORIAN
BEGIN:VEVENT
DTSTART:20191003T230000Z
DTEND:20191004T010000Z
X-MICROSOFT-CDO-ALLDAYEVENT:FALSE
SUMMARY:Flight of the Oysters Part 2
DESCRIPTION:As a reminder\, The Wandering Oyster is teaming up with the Fairhope Brewing Company to support Troop 82 with a fun fundraiser\, the second Flight of the Oyster: https://www.facebook.com/events/496406744484938/ We are pairing three varieties of amazing oysters (3 of each\, served up ice cold on the half) with great handcrafted beers\, including an oyster stout just for the event. All for just $30\, a portion of which will be going directly to Daphne's Boy Scout Troop 82. Tickets are limited. To reserve your spot please email info@fairhopebrewing.com\; we will then send you an electronic invoice. Your spot will not be reserved until we receive payment. Even if you can't make it\, please spread the word. Tell your friends not to miss it! And for those that can't make it but want to help Troop 82 get a trailer and new gear for our Scouts\, send them to our store where they can make a donation if they wish! https://squareup.com/store/DaphneTroop82
X-ALT-DESC;FMTTYPE=text/html:As a reminder\, The Wandering Oyster is teaming up with the Fairhope Brewing Company to support Troop 82 with a fun fundraiser\, the second Flight of the Oyster: https://www.facebook.com/events/496406744484938/ We are pairing three varieties of amazing oysters (3 of each\, served up ice cold on the half) with great handcrafted beers\, including an oyster stout just for the event. All for just $30\, a portion of which will be going directly to Daphne&#39\;s Boy Scout Troop 82. Tickets are limited. To reserve your spot please email info@fairhopebrewing.com\; we will then send you an electronic invoice. Your spot will not be reserved until we receive payment. Even if you can&#39\;t make it\, please spread the word. Tell your friends not to miss it! And for those that can&#39\;t make it but want to help Troop 82 get a trailer and new gear for our Scouts\, send them to our store where they can make a donation if they wish! https://squareup.com/store/DaphneTroop82
LOCATION:Fairhope Brewing Company
UID:e.1304.12930
SEQUENCE:3
DTSTAMP:20260419T155113Z
URL:https://business.eschamber.com/events/details/flight-of-the-oysters-part-2-12930
END:VEVENT

END:VCALENDAR
