BEGIN:VCALENDAR
VERSION:2.0
PRODID:-//ChamberMaster//Event Calendar 2.0//EN
METHOD:PUBLISH
X-PUBLISHED-TTL:P3D
REFRESH-INTERVAL:P3D
CALSCALE:GREGORIAN
BEGIN:VEVENT
DTSTART:20230907T233000Z
DTEND:20230908T020000Z
X-MICROSOFT-CDO-ALLDAYEVENT:FALSE
SUMMARY:Flourish Fete Fundraiser for Teen Girls
DESCRIPTION:Join us for our 2nd Annual Flourish Fete Fundraiser to celebrate the Flourish Community for Teen Girls.\n\n\n\nHosted at Belforest Pointe\, guests will enjoy live music by Symone French while enjoying dinner\, cocktails & desserts.\nThis evening includes a silent auction and presentation about Flourish & the girls lives impacted.
X-ALT-DESC;FMTTYPE=text/html:Join us for our 2nd Annual Flourish Fete Fundraiser to celebrate the Flourish Community for Teen Girls.<br />\n<br />\nHosted at Belforest Pointe\, guests will enjoy live music by <a href="https://www.symonefrench.com/" style="background-image: unset\; background-size: unset\; cursor: pointer\; color: var(--image-block-card-inline-link-color)\; text-decoration: none\; white-space: initial\; text-decoration-line: underline\; text-decoration-style: solid\; text-decoration-color: currentcolor\; text-decoration-thickness: 1px\; text-underline-offset: 0.2em\; text-decoration-skip: auto\; margin-top: 0px\; margin-bottom: 0px\; background-position: unset\; background-repeat: unset\;">Symone French&nbsp\;</a>while enjoying dinner\, cocktails &amp\; desserts.\n<p>This evening includes a silent auction and presentation about Flourish &amp\; the girls lives impacted.</p>\n
LOCATION:Belforest pointe 26503 AL-181\, Daphne\, AL 36526
UID:e.1304.27749
SEQUENCE:3
DTSTAMP:20260420T021317Z
URL:https://business.eschamber.com/events/details/flourish-fete-fundraiser-for-teen-girls-27749
END:VEVENT

END:VCALENDAR
