BEGIN:VCALENDAR
VERSION:2.0
PRODID:-//ChamberMaster//Event Calendar 2.0//EN
METHOD:PUBLISH
X-PUBLISHED-TTL:P3D
REFRESH-INTERVAL:P3D
CALSCALE:GREGORIAN
BEGIN:VEVENT
DTSTART:20210313T170000Z
DTEND:20210313T200000Z
X-MICROSOFT-CDO-ALLDAYEVENT:FALSE
SUMMARY:Food Truck Lunch in the Park
DESCRIPTION:The Good Guys are famous for their delicious burgers\, sandwiches\, and wraps. The food truck will be set up in a convenient location with plenty of room for social distancing! Enjoy a great meal and day out in the park! The truck will be set up in the "Redoubt 6" area on our park map\, near the entrance to the Harper Tent Campground and the Blakeley Cemetery.
X-ALT-DESC;FMTTYPE=text/html:The Good Guys are famous for their delicious burgers\, sandwiches\, and wraps. The food truck will be set up in a convenient location with plenty of room for social distancing! Enjoy a great meal and day out in the park! The truck will be set up in the &quot\;Redoubt 6&quot\; area on our park map\, near the entrance to the Harper Tent Campground and the Blakeley Cemetery.
LOCATION:The truck will be set up in the "Redoubt 6" area on our park map\, near the entrance to the Harper Tent Campground and the Blakeley Cemetery.
UID:e.1304.19448
SEQUENCE:3
DTSTAMP:20260423T222914Z
URL:https://business.eschamber.com/events/details/food-truck-lunch-in-the-park-19448
END:VEVENT

END:VCALENDAR
