BEGIN:VCALENDAR
VERSION:2.0
PRODID:-//ChamberMaster//Event Calendar 2.0//EN
METHOD:PUBLISH
X-PUBLISHED-TTL:P3D
REFRESH-INTERVAL:P3D
CALSCALE:GREGORIAN
BEGIN:VEVENT
DTSTART:20210418T000000Z
DTEND:20210418T030000Z
X-MICROSOFT-CDO-ALLDAYEVENT:FALSE
SUMMARY:"Forever Johnny Cash" The Musical Tribute
DESCRIPTION:Forever Johnny Cash\, voted #1 Johnny Cash tribute band\, is coming to the Daphne Civic Center\, April 17\, 2021. This 7 piece band will "wow" you with their throwback musical talent\, honoring Johnny Cash. Tickets are on sale now at Best Florida Fest.com $20 GA. $35 VIP
X-ALT-DESC;FMTTYPE=text/html:<span style="font-size:14px"><strong>Forever Johnny Cash\, voted #1 Johnny Cash tribute band\, is coming to the Daphne Civic Center\, April 17\, 2021</strong></span>. This 7 piece band will &quot\;wow&quot\; you with their throwback musical talent\, honoring Johnny Cash. Tickets are on sale now at <a href="http://bestfloridafest.com">Best Florida Fest.com</a>&nbsp\;$20 GA. $35 VIP
LOCATION:Daphne Civic Center - 2603 US 98\, Daphne\, Alabama
UID:e.1304.19347
SEQUENCE:3
DTSTAMP:20260423T192819Z
URL:https://business.eschamber.com/events/details/forever-johnny-cash-the-musical-tribute-19347
END:VEVENT

END:VCALENDAR
