BEGIN:VCALENDAR
VERSION:2.0
PRODID:-//ChamberMaster//Event Calendar 2.0//EN
METHOD:PUBLISH
X-PUBLISHED-TTL:P3D
REFRESH-INTERVAL:P3D
CALSCALE:GREGORIAN
BEGIN:VEVENT
DTSTART:20191012T130000Z
DTEND:20191012T170000Z
X-MICROSOFT-CDO-ALLDAYEVENT:FALSE
SUMMARY:Fourth Annual Race for Hope 5K and Fun Run
DESCRIPTION:City Hope Church is partnering with Dumas Wesley Community Center to present its 4th annual Race for Hope 5K and 1-mile Fun Run. Registration is available online for both events through Eventbrite at Race for Hope 5K and Fun Run.
X-ALT-DESC;FMTTYPE=text/html:City Hope Church is partnering with Dumas Wesley Community Center to present its 4th annual Race for Hope 5K and 1-mile Fun Run. Registration is available online for both events through Eventbrite at Race for Hope 5K and Fun Run.
LOCATION:Dumas Wesley Community Center 126 Mobile Street\, Mobile\, AL
UID:e.1304.12832
SEQUENCE:3
DTSTAMP:20260419T172717Z
URL:https://business.eschamber.com/events/details/fourth-annual-race-for-hope-5k-and-fun-run-12832
END:VEVENT

END:VCALENDAR
