BEGIN:VCALENDAR
VERSION:2.0
PRODID:-//ChamberMaster//Event Calendar 2.0//EN
METHOD:PUBLISH
X-PUBLISHED-TTL:P3D
REFRESH-INTERVAL:P3D
CALSCALE:GREGORIAN
BEGIN:VEVENT
DTSTART:20200815T160000Z
DTEND:20200815T190000Z
X-MICROSOFT-CDO-ALLDAYEVENT:FALSE
SUMMARY:Gallery Talk: Nall
DESCRIPTION:The Nall Collection of Alabama Art now featuring artist Betty Sue Matthews at the Eastern Shore Art Center! Join us for a Gallery Talk with international artist Nall as he discusses Betty's life and work. August 15\, 2020 Two sessions available: 11am-Noon or 1-2pm 25 person max per event for social distancing Free to attend. Masks required. We will also be recording a session for those viewers at home. Thank you to our event sponsor\, Jim and Pam Prestwood!
X-ALT-DESC;FMTTYPE=text/html:The Nall Collection of Alabama Art now featuring artist Betty Sue Matthews at the Eastern Shore Art Center! Join us for a Gallery Talk with international artist Nall as he discusses Betty&rsquo\;s life and work. August 15\, 2020 Two sessions available: 11am-Noon or 1-2pm 25 person max per event for social distancing Free to attend. Masks required. We will also be recording a session for those viewers at home. Thank you to our event sponsor\, Jim and Pam Prestwood!
LOCATION:401 Oak St\, Fairhope AL
UID:e.1304.14266
SEQUENCE:3
DTSTAMP:20260424T085827Z
URL:https://business.eschamber.com/events/details/gallery-talk-nall-14266
END:VEVENT

END:VCALENDAR
