BEGIN:VCALENDAR
VERSION:2.0
PRODID:-//ChamberMaster//Event Calendar 2.0//EN
METHOD:PUBLISH
X-PUBLISHED-TTL:P3D
REFRESH-INTERVAL:P3D
CALSCALE:GREGORIAN
BEGIN:VEVENT
DTSTART:20210227T133000Z
DTEND:20210227T163000Z
X-MICROSOFT-CDO-ALLDAYEVENT:FALSE
SUMMARY:Gator Chase 5K and Fun Run
DESCRIPTION:Gator Chase 5K and Fun Run on The Causeway benefiting the Spanish Fort Education Enrichment Foundation. Learn more and register at Eventbrite.com
X-ALT-DESC;FMTTYPE=text/html:Gator Chase 5K and Fun Run on The Causeway benefiting the Spanish Fort Education Enrichment Foundation. Learn more and register at Eventbrite.com
LOCATION:5 Rivers Delta Resource Center
UID:e.1304.18227
SEQUENCE:3
DTSTAMP:20260423T221931Z
URL:https://business.eschamber.com/events/details/gator-chase-5k-and-fun-run-18227
END:VEVENT

END:VCALENDAR
