BEGIN:VCALENDAR
VERSION:2.0
PRODID:-//ChamberMaster//Event Calendar 2.0//EN
METHOD:PUBLISH
X-PUBLISHED-TTL:P3D
REFRESH-INTERVAL:P3D
CALSCALE:GREGORIAN
BEGIN:VEVENT
DTSTART:20240730T210000Z
DTEND:20240731T000000Z
X-MICROSOFT-CDO-ALLDAYEVENT:FALSE
SUMMARY:Girls Night Out at the Eastern Shore Center
DESCRIPTION:Eastern Shore Centre is thrilled to announce its first ever Girls Night Out event\, a vibrant evening dedicated to fun\, fashion\, and fabulous finds.\n\n\n\nThis special event will take place on Tuesday\, July 30 from 4PM   7PM on The Green near California Dreaming.\n\n\n\nAttendees can look forward to an evening filled with live music\, creating the perfect ambiance for a night out with friends. The event will feature a variety of local pop-up vendors offering fine art\, baked goods\, handmade jewelry\, and women's apparel.\n\n\n\nAmong the local favorites are Catherine Cochran Art and Jewelry\, Krazy Good Macarons\, and Free Will Boutique\, providing a unique shopping experience with a personal touch.\n\n\n\nIn addition to the fantastic vendor offerings\, shoppers will receive an exclusive shopping pass with discounts from all retailers within Eastern Shore Centre\, making it the ideal time to find great deals on everything from fashion to home goods.\n\n\n\nTo make the evening even more special\, the first 50 shoppers to check in at the Eastern Shore tent on The Green will receive an exclusive shopping tote\, perfect for carrying their new treasures.\n\n\n\n"We are incredibly excited to host the first event at Eastern Shore Centre since the acquisition\," said Suzanna Edwards\, Vice President of Marketing for Crawford Square Real Estate Advisors. "Girls Night Out is a perfect way to celebrate our community and showcase the wonderful local talent and retailers we have here. We look forward to welcoming everyone for a night of fun and fantastic shopping."\n\n\n\nGather your friends and join us for an unforgettable evening of shopping\, music\, and community. For more information and updates\, visit us on Instagram at @shopeasternshore.
X-ALT-DESC;FMTTYPE=text/html:Eastern Shore Centre is thrilled to announce its first ever Girls Night Out event\, a vibrant evening dedicated to fun\, fashion\, and fabulous finds.<br />\n<br />\n<strong>This special event will take place on Tuesday\, July 30 from 4PM &ndash\; 7PM on The Green near California Dreaming.</strong><br />\n<br />\nAttendees can look forward to an evening filled with live music\, creating the perfect ambiance for a night out with friends. The event will feature a variety of local pop-up vendors offering fine art\, baked goods\, handmade jewelry\, and women&#39\;s apparel.<br />\n<br />\nAmong the local favorites are Catherine Cochran Art and Jewelry\, Krazy Good Macarons\, and Free Will Boutique\, providing a unique shopping experience with a personal touch.<br />\n<br />\nIn addition to the fantastic vendor offerings\, shoppers will receive an exclusive shopping pass with discounts from all retailers within Eastern Shore Centre\, making it the ideal time to find great deals on everything from fashion to home goods.<br />\n<br />\nTo make the evening even more special\, the first 50 shoppers to check in at the Eastern Shore tent on The Green will receive an exclusive shopping tote\, perfect for carrying their new treasures.<br />\n<br />\n&quot\;We are incredibly excited to host the first event at Eastern Shore Centre since the acquisition\,&quot\; said Suzanna Edwards\, Vice President of Marketing for Crawford Square Real Estate Advisors. &quot\;Girls Night Out is a perfect way to celebrate our community and showcase the wonderful local talent and retailers we have here. We look forward to welcoming everyone for a night of fun and fantastic shopping.&quot\;<br />\n<br />\nGather your friends and join us for an unforgettable evening of shopping\, music\, and community. For more information and updates\, visit us on Instagram at @shopeasternshore.
LOCATION:Eastern Shore Centre 30500 AL-181 Spanish Fort\, AL 36527
UID:e.1304.32605
SEQUENCE:3
DTSTAMP:20260419T191312Z
URL:https://business.eschamber.com/events/details/girls-night-out-at-the-eastern-shore-center-32605
END:VEVENT

END:VCALENDAR
