BEGIN:VCALENDAR
VERSION:2.0
PRODID:-//ChamberMaster//Event Calendar 2.0//EN
METHOD:PUBLISH
X-PUBLISHED-TTL:P3D
REFRESH-INTERVAL:P3D
CALSCALE:GREGORIAN
BEGIN:VEVENT
DTSTART:20210721T160000Z
DTEND:20210721T200000Z
X-MICROSOFT-CDO-ALLDAYEVENT:FALSE
SUMMARY:Goodwill Gulf Coast Job Fair
DESCRIPTION:We're having a Job Fair in Baldwin County! Join us on July 21st from 11am - 3pm at our Goodwill Spanish Fort Community Center. Applicants can apply online prior to the event or at the job fair. We will have staff to assist and provide interviews on site! Apply online at www.gesgc.org.\n \n\nEqualOpportunityEmployer/Veterans/Disabled
X-ALT-DESC;FMTTYPE=text/html:<span style="background-color:rgba(255\, 255\, 255\, 0.5)\; font-family:roboto\; font-size:16px">We&#39\;re having a Job Fair in Baldwin County! Join us on July 21st from 11am - 3pm at our Goodwill Spanish Fort Community Center. Applicants can apply online prior to the event or at the job fair. We will have staff to assist and provide interviews on site! Apply online at </span><a href="https://www.gesgc.org/" rel="nofollow noopener noreferrer" style="margin: 0px\; padding: 0px\; border: none\; font-variant-numeric: inherit\; font-variant-east-asian: inherit\; font-stretch: inherit\; font-size: 16px\; line-height: inherit\; font-family: Roboto\; vertical-align: baseline\; color: rgb(0\, 82\, 159)\; text-decoration-line: none\; transition: color 0.2s ease-in-out 0s\; box-sizing: border-box\; box-shadow: none\; white-space: pre-line\; background-color: rgba(255\, 255\, 255\, 0.5)\;" target="_blank">www.gesgc.org</a><span style="background-color:rgba(255\, 255\, 255\, 0.5)\; font-family:roboto\; font-size:16px">.</span>\n<div>&nbsp\;</div>\n\n<div><strong>EqualOpportunityEmployer/Veterans/Disabled</strong></div>\n
LOCATION:Spanish Fort Goodwill Gulf Coast Community Center 10718 Eastern Shore Blvd Spanish Fort\, AL 36527
UID:e.1304.22164
SEQUENCE:3
DTSTAMP:20260420T130339Z
URL:https://business.eschamber.com/events/details/goodwill-gulf-coast-job-fair-22164
END:VEVENT

END:VCALENDAR
