BEGIN:VCALENDAR
VERSION:2.0
PRODID:-//ChamberMaster//Event Calendar 2.0//EN
METHOD:PUBLISH
X-PUBLISHED-TTL:P3D
REFRESH-INTERVAL:P3D
CALSCALE:GREGORIAN
BEGIN:VEVENT
DTSTART;VALUE=DATE:20210116
DTEND;VALUE=DATE:20210906
TRANSP:TRANSPARENT
X-MICROSOFT-CDO-ALLDAYEVENT:TRUE
SUMMARY:Gordon Parks: Segregation Story in Mobile\, 1956
DESCRIPTION:Mobile Museum of Art brings the iconic photographs by Gordon Parks during the Jim Crow era back to the city where they were captured with the special exhibition\, Gordon Parks: Segregation Story in Mobile\, 1956. This exhibition of photographs documents the everyday activities and rituals of one extended black family\, the Thorntons\, in Mobile and Shady Grove\, Alabama\, during segregation. The images were originally published in a 1956 photo essay by Parks\, an assignment from Life magazine after the Montgomery bus boycotts\, but have come to be known around the world for helping to inspire the Civil Rights movement.
X-ALT-DESC;FMTTYPE=text/html:Mobile Museum of Art brings the iconic photographs by Gordon Parks during the Jim Crow era back to the city where they were captured with the special exhibition\, Gordon Parks: Segregation Story in Mobile\, 1956. This exhibition of photographs documents the everyday activities and rituals of one extended black family\, the Thorntons\, in Mobile and Shady Grove\, Alabama\, during segregation. The images were originally published in a 1956 photo essay by Parks\, an assignment from Life magazine after the Montgomery bus boycotts\, but have come to be known around the world for helping to inspire the Civil Rights movement.
LOCATION:Mobile Museum of Art 4850 Museum Dr. Mobile\, AL 36608
UID:e.1304.17022
SEQUENCE:3
DTSTAMP:20260420T114744Z
URL:https://business.eschamber.com/events/details/gordon-parks-segregation-story-in-mobile-1956-17022
END:VEVENT

END:VCALENDAR
