BEGIN:VCALENDAR
VERSION:2.0
PRODID:-//ChamberMaster//Event Calendar 2.0//EN
METHOD:PUBLISH
X-PUBLISHED-TTL:P3D
REFRESH-INTERVAL:P3D
CALSCALE:GREGORIAN
BEGIN:VEVENT
DTSTART:20240729T183000Z
DTEND:20240729T193000Z
X-MICROSOFT-CDO-ALLDAYEVENT:FALSE
SUMMARY:Grand Opening: AXXS Tint of Daphne
DESCRIPTION:Grand Opening: AXXS Tint of Daphne
X-ALT-DESC;FMTTYPE=text/html:Grand Opening: AXXS Tint of Daphne&nbsp\;<br />\n
LOCATION:9671 Milton Jones Rd Daphne AL 36526
UID:e.1304.32189
SEQUENCE:3
DTSTAMP:20260419T191259Z
URL:https://business.eschamber.com/events/details/grand-opening-axxs-tint-of-daphne-32189
END:VEVENT

END:VCALENDAR
