BEGIN:VCALENDAR
VERSION:2.0
PRODID:-//ChamberMaster//Event Calendar 2.0//EN
METHOD:PUBLISH
X-PUBLISHED-TTL:P3D
REFRESH-INTERVAL:P3D
CALSCALE:GREGORIAN
BEGIN:VEVENT
DTSTART:20240827T210000Z
DTEND:20240827T220000Z
X-MICROSOFT-CDO-ALLDAYEVENT:FALSE
SUMMARY:Grand Opening: Eastern Shore Mattress Crafters
DESCRIPTION:Grand Opening: Eastern Shore Mattress Crafters
X-ALT-DESC;FMTTYPE=text/html:Grand Opening: Eastern Shore Mattress Crafters<br />\n
LOCATION:25369 Consolidated Park Drive Suite 101 Daphne\, AL 36526
UID:e.1304.34153
SEQUENCE:3
DTSTAMP:20260419T161922Z
URL:https://business.eschamber.com/events/details/grand-opening-eastern-shore-mattress-crafters-34153
END:VEVENT

END:VCALENDAR
