BEGIN:VCALENDAR
VERSION:2.0
PRODID:-//ChamberMaster//Event Calendar 2.0//EN
METHOD:PUBLISH
X-PUBLISHED-TTL:P3D
REFRESH-INTERVAL:P3D
CALSCALE:GREGORIAN
BEGIN:VEVENT
DTSTART:20240819T140000Z
DTEND:20240819T150000Z
X-MICROSOFT-CDO-ALLDAYEVENT:FALSE
SUMMARY:Grand Opening/Open House: Cloud Mountain Coffee
DESCRIPTION:Grand Opening/Open House: Cloud Mountain Coffee
X-ALT-DESC;FMTTYPE=text/html:Grand Opening/Open House: Cloud Mountain Coffee<br />\n
LOCATION:1305 Main Street Daphne AL 36526
UID:e.1304.34152
SEQUENCE:3
DTSTAMP:20260419T161806Z
URL:https://business.eschamber.com/events/details/grand-opening-open-house-cloud-mountain-coffee-34152
END:VEVENT

END:VCALENDAR
