BEGIN:VCALENDAR
VERSION:2.0
PRODID:-//ChamberMaster//Event Calendar 2.0//EN
METHOD:PUBLISH
X-PUBLISHED-TTL:P3D
REFRESH-INTERVAL:P3D
CALSCALE:GREGORIAN
BEGIN:VEVENT
DTSTART:20230222T150000Z
DTEND:20230222T160000Z
X-MICROSOFT-CDO-ALLDAYEVENT:FALSE
SUMMARY:Grand Opening/Ribbon Cutting - The Shops at Point Clear
DESCRIPTION:Ribbon Cutting & Grand Opening: The Shops at Point Clear
X-ALT-DESC;FMTTYPE=text/html:Ribbon Cutting &amp\; Grand Opening: The Shops at Point Clear
LOCATION:18125 Wright Blvd Fairhope\, AL 36532 We will be located just past the new Publix on the sidewalk of the adjoining shops
UID:e.1304.27317
SEQUENCE:3
DTSTAMP:20260421T164841Z
URL:https://business.eschamber.com/events/details/grand-opening-ribbon-cutting-the-shops-at-point-clear-27317
END:VEVENT

END:VCALENDAR
