BEGIN:VCALENDAR
VERSION:2.0
PRODID:-//ChamberMaster//Event Calendar 2.0//EN
METHOD:PUBLISH
X-PUBLISHED-TTL:P3D
REFRESH-INTERVAL:P3D
CALSCALE:GREGORIAN
BEGIN:VEVENT
DTSTART:20240829T210000Z
DTEND:20240829T230000Z
X-MICROSOFT-CDO-ALLDAYEVENT:FALSE
SUMMARY:Grand Opening: Southern Grove Vineyard
DESCRIPTION:Grand Opening: Southern Grove Vineyard
X-ALT-DESC;FMTTYPE=text/html:Grand Opening: Southern Grove Vineyard<br />\n
LOCATION:10176 County Road 32 Fairhope\, AL 36532
UID:e.1304.34173
SEQUENCE:3
DTSTAMP:20260419T161855Z
URL:https://business.eschamber.com/events/details/grand-opening-southern-grove-vineyard-34173
END:VEVENT

END:VCALENDAR
