BEGIN:VCALENDAR
VERSION:2.0
PRODID:-//ChamberMaster//Event Calendar 2.0//EN
METHOD:PUBLISH
X-PUBLISHED-TTL:P3D
REFRESH-INTERVAL:P3D
CALSCALE:GREGORIAN
BEGIN:VEVENT
DTSTART:20240712T150000Z
DTEND:20240712T153000Z
X-MICROSOFT-CDO-ALLDAYEVENT:FALSE
SUMMARY:Grand Opening: The Flats at East Bay
DESCRIPTION:Grand Opening: The Flats at East Bay
X-ALT-DESC;FMTTYPE=text/html:Grand Opening: The Flats at East Bay
LOCATION:9376 Twin Beech Road Fairhope AL 36532
UID:e.1304.31402
SEQUENCE:3
DTSTAMP:20260419T193620Z
URL:https://business.eschamber.com/events/details/grand-opening-the-flats-at-east-bay-31402
END:VEVENT

END:VCALENDAR
