BEGIN:VCALENDAR
VERSION:2.0
PRODID:-//ChamberMaster//Event Calendar 2.0//EN
METHOD:PUBLISH
X-PUBLISHED-TTL:P3D
REFRESH-INTERVAL:P3D
CALSCALE:GREGORIAN
BEGIN:VEVENT
DTSTART:20210501T143000Z
DTEND:20210502T010000Z
X-MICROSOFT-CDO-ALLDAYEVENT:FALSE
SUMMARY:Grillin' at the Fort Double Steak Cookoff
DESCRIPTION:Grillin' at the Fort is a fully sanctioned Steak Cookoff Association (SCA) competition. In addition to the grilling contests\, the day will feature fun\, food-inspired activities\, cooking demonstrations\, a local vendors market and live entertainment. Grillin' at the Fort will draw cook teams from across the south vying for cash\, SCA points and\, most importantly\, bragging rights. It is a double steak cook-off and includes two ancillary competitions   Shrimp and Kids' Steak - and is open to anyone who thinks they have the grilling chops enough to impress the board of certified SCA judges. Corporate and local businesses are welcome to participate and take advantage of the opportunity to showcase their business or service to local customers in and around Spanish Fort and Daphne. For more information on the cook-offs contact David Calametti at 251-623-1751 or david@alabamacoasting.com To register to compete in any of the cook-offs\, go to www.steakcookoffs.com. All proceeds from this event will benefit the Friends of Spanish Fort Library.
X-ALT-DESC;FMTTYPE=text/html:Grillin&rsquo\; at the Fort is a fully sanctioned Steak Cookoff Association (SCA) competition. In addition to the grilling contests\, the day will feature fun\, food-inspired activities\, cooking demonstrations\, a local vendors market and live entertainment. Grillin&rsquo\; at the Fort will draw cook teams from across the south vying for cash\, SCA points and\, most importantly\, bragging rights. It is a double steak cook-off and includes two ancillary competitions &ndash\; Shrimp and Kids&rsquo\; Steak - and is open to anyone who thinks they have the grilling chops enough to impress the board of certified SCA judges. Corporate and local businesses are welcome to participate and take advantage of the opportunity to showcase their business or service to local customers in and around Spanish Fort and Daphne. For more information on the cook-offs contact David Calametti at 251-623-1751 or david@alabamacoasting.com To register to compete in any of the cook-offs\, go to www.steakcookoffs.com. All proceeds from this event will benefit the Friends of Spanish Fort Library.
LOCATION:The Fort Park\, 29001 Bass Pro Drive\, Spanish Fort\, AL
UID:e.1304.20621
SEQUENCE:3
DTSTAMP:20260423T175220Z
URL:https://business.eschamber.com/events/details/grillin-at-the-fort-double-steak-cookoff-20621
END:VEVENT

END:VCALENDAR
