BEGIN:VCALENDAR
VERSION:2.0
PRODID:-//ChamberMaster//Event Calendar 2.0//EN
METHOD:PUBLISH
X-PUBLISHED-TTL:P3D
REFRESH-INTERVAL:P3D
CALSCALE:GREGORIAN
BEGIN:VEVENT
DTSTART:20210420T150000Z
DTEND:20210420T160000Z
X-MICROSOFT-CDO-ALLDAYEVENT:FALSE
SUMMARY:Grow Your Business with Webinars
DESCRIPTION:Featured Guest Speaker is Pamela Starr. Finding ways to increase revenues on the internet is a strategic move for all businesses. You will learn: How to properly set up your webinar to maximize effectiveness\; when to charge and when to do webinars for free\; how to tame your nerves and present like a pro\; how to get ideal prospects to sign up for your webinar\; how to keep your audience engaged throughout the webinar\; and how to ensure your audience takes the action you want right away. Space is limited and registration is required.
X-ALT-DESC;FMTTYPE=text/html:Featured Guest Speaker is Pamela Starr. Finding ways to increase revenues on the internet is a strategic move for all businesses. You will learn: How to properly set up your webinar to maximize effectiveness\; when to charge and when to do webinars for free\; how to tame your nerves and present like a pro\; how to get ideal prospects to sign up for your webinar\; how to keep your audience engaged throughout the webinar\; and how to ensure your audience takes the action you want right away. Space is limited and registration is required.
LOCATION:Webinar - space is limited\; registration required. Register at: https://asbdc.ecenterdirect.com/events/8778
UID:e.1304.20611
SEQUENCE:3
DTSTAMP:20260423T205341Z
URL:https://business.eschamber.com/events/details/grow-your-business-with-webinars-20611
END:VEVENT

END:VCALENDAR
