BEGIN:VCALENDAR
VERSION:2.0
PRODID:-//ChamberMaster//Event Calendar 2.0//EN
METHOD:PUBLISH
X-PUBLISHED-TTL:P3D
REFRESH-INTERVAL:P3D
CALSCALE:GREGORIAN
BEGIN:VEVENT
DTSTART:20220924T000000Z
DTEND:20220924T013000Z
X-MICROSOFT-CDO-ALLDAYEVENT:FALSE
SUMMARY:Gulf Coast Comedy Fest - Donnie Stopa & Friends
DESCRIPTION:Headliner Donnie Stopa was awarded\, "Best Stand-Up Comedian (CLEAN)" at All The Laughs Comedy Awards. Feature act\, Sean Harper from Tampa Bay\, FL. The opener\, Absar Siddiqui is one of Orlando FL's favorite Stand-Up Comedians. Come see these funny guys at Brandon Styles Theater for one night only!\n\nDoors open 30 minutes before showtime for all seating. Reservations are required\, and no walk-ups are available.\n\nLocated inside Brandon Styles LIVE Theater in Downtown OWA\, Suite 101-H\, next to Alvin's Island\n\nActivity Highlights\n\n  Professional comedians\n\n  Great for date night\n\n  Audience participation\n\nCall 251-237-3330 or book online at GulfCoastComedyFest.com\n\nGeneral admission: $32.00\n\n*VIP tables are available*
X-ALT-DESC;FMTTYPE=text/html:<p><span style="color:rgb(5\, 5\, 5)\; font-family:segoe ui historic\,segoe ui\,helvetica\,arial\,sans-serif\; font-size:15px">Headliner Donnie Stopa was awarded\, &ldquo\;Best Stand-Up Comedian (CLEAN)&rdquo\; at All The Laughs Comedy Awards. Feature act\, Sean Harper from Tampa Bay\, FL. The opener\, Absar Siddiqui is one of Orlando FL&#39\;s favorite Stand-Up Comedians. Come see these funny guys at Brandon Styles Theater for one night only!</span></p>\n\n<p>Doors open 30 minutes before showtime for all seating. Reservations are required\, and no walk-ups are available.</p>\n\n<p>Located inside Brandon Styles LIVE Theater in Downtown OWA\, Suite 101-H\, next to Alvin&#39\;s Island</p>\n\n<p><strong>Activity Highlights</strong></p>\n\n<p>&rarr\; Professional comedians<br />\n&rarr\; Great for date night<br />\n&rarr\; Audience participation</p>\n\n<p>Call 251-237-3330 or book online at&nbsp\;<a href="http://gulfcoastcomedyfest.com/?fbclid=IwAR1MnbIa7--7G6AU1Q7ATVlL1AHSRd04ZMaXXQyrGBr7w1rH9Z1jBFHqBHo" target="_blank">GulfCoastComedyFest.com</a></p>\n\n<p>General admission: $32.00<br />\n*VIP tables are available*</p>\n
LOCATION:Brandon Styles Theater at OWA\, 1501 S OWA Blvd.\, Foley\, AL 36535
UID:e.1304.23721
SEQUENCE:3
DTSTAMP:20260423T192252Z
URL:https://business.eschamber.com/events/details/gulf-coast-comedy-fest-donnie-stopa-friends-23721
END:VEVENT

END:VCALENDAR
